Package: parody Version: 1.62.0 Command: F:\biocbuild\bbs-3.19-bioc\R\bin\R.exe CMD check --no-multiarch --install=check:parody.install-out.txt --library=F:\biocbuild\bbs-3.19-bioc\R\library --no-vignettes --timings parody_1.62.0.tar.gz StartedAt: 2024-06-27 04:35:28 -0400 (Thu, 27 Jun 2024) EndedAt: 2024-06-27 04:36:00 -0400 (Thu, 27 Jun 2024) EllapsedTime: 31.6 seconds RetCode: 0 Status: OK CheckDir: parody.Rcheck Warnings: 0