Package: parody Version: 1.62.0 Command: chmod a+r parody -R && F:\biocbuild\bbs-3.19-bioc\R\bin\R.exe CMD build --keep-empty-dirs --no-resave-data parody StartedAt: 2024-06-26 20:51:49 -0400 (Wed, 26 Jun 2024) EndedAt: 2024-06-26 20:52:25 -0400 (Wed, 26 Jun 2024) EllapsedTime: 35.7 seconds RetCode: 0 Status: OK PackageFile: parody_1.62.0.tar.gz PackageFileSize: 304.7 KiB