Package: parody Version: 1.62.0 Command: /home/biocbuild/bbs-3.19-bioc/R/bin/R CMD check --install=check:parody.install-out.txt --library=/home/biocbuild/bbs-3.19-bioc/R/site-library --timings parody_1.62.0.tar.gz StartedAt: 2024-10-17 03:36:45 -0400 (Thu, 17 Oct 2024) EndedAt: 2024-10-17 03:37:07 -0400 (Thu, 17 Oct 2024) EllapsedTime: 22.0 seconds RetCode: 0 Status: OK CheckDir: parody.Rcheck Warnings: 0