Package: parody Version: 1.62.0 Command: /Library/Frameworks/R.framework/Resources/bin/R CMD check --install=check:parody.install-out.txt --library=/Library/Frameworks/R.framework/Resources/library --no-vignettes --timings parody_1.62.0.tar.gz StartedAt: 2024-10-17 10:38:06 -0400 (Thu, 17 Oct 2024) EndedAt: 2024-10-17 10:39:20 -0400 (Thu, 17 Oct 2024) EllapsedTime: 73.1 seconds RetCode: 0 Status: OK CheckDir: parody.Rcheck Warnings: 0