Package: parody Version: 1.62.0 Command: /home/biocbuild/R/R-beta-2024-04-15_r86425/bin/R CMD check --install=check:parody.install-out.txt --library=/home/biocbuild/R/R-beta-2024-04-15_r86425/site-library --no-vignettes --timings parody_1.62.0.tar.gz StartedAt: 2024-05-09 10:23:55 -0000 (Thu, 09 May 2024) EndedAt: 2024-05-09 10:24:17 -0000 (Thu, 09 May 2024) EllapsedTime: 22.0 seconds RetCode: 0 Status: OK CheckDir: parody.Rcheck Warnings: 0