Package: parody Version: 1.62.0 Command: /Library/Frameworks/R.framework/Resources/bin/R CMD INSTALL parody StartedAt: 2024-10-16 15:46:45 -0400 (Wed, 16 Oct 2024) EndedAt: 2024-10-16 15:46:54 -0400 (Wed, 16 Oct 2024) EllapsedTime: 8.8 seconds RetCode: 0 Status: OK