Package: parglms Version: 1.36.0 Command: E:\biocbuild\bbs-3.19-bioc\R\bin\R.exe CMD INSTALL parglms StartedAt: 2024-10-16 16:37:15 -0400 (Wed, 16 Oct 2024) EndedAt: 2024-10-16 16:37:23 -0400 (Wed, 16 Oct 2024) EllapsedTime: 8.4 seconds RetCode: 0 Status: OK