Package: parglms Version: 1.36.0 Command: rm -rf parglms.buildbin-libdir && mkdir parglms.buildbin-libdir && E:\biocbuild\bbs-3.19-bioc\R\bin\R.exe CMD INSTALL --build --library=parglms.buildbin-libdir parglms_1.36.0.tar.gz StartedAt: 2024-10-17 08:19:26 -0400 (Thu, 17 Oct 2024) EndedAt: 2024-10-17 08:19:43 -0400 (Thu, 17 Oct 2024) EllapsedTime: 17.0 seconds RetCode: 0 Status: OK PackageFile: parglms_1.36.0.zip PackageFileSize: 301.8 KiB