Package: parglms Version: 1.36.0 Command: /home/biocbuild/bbs-3.19-bioc/R/bin/R CMD build --keep-empty-dirs --no-resave-data parglms StartedAt: 2024-10-16 20:03:27 -0400 (Wed, 16 Oct 2024) EndedAt: 2024-10-16 20:03:53 -0400 (Wed, 16 Oct 2024) EllapsedTime: 26.2 seconds RetCode: 0 Status: OK PackageFile: parglms_1.36.0.tar.gz PackageFileSize: 273.9 KiB