Package: parglms Version: 1.36.0 Command: /Library/Frameworks/R.framework/Resources/bin/R CMD check --install=check:parglms.install-out.txt --library=/Library/Frameworks/R.framework/Resources/library --no-vignettes --timings parglms_1.36.0.tar.gz StartedAt: 2024-10-17 10:38:00 -0400 (Thu, 17 Oct 2024) EndedAt: 2024-10-17 10:40:05 -0400 (Thu, 17 Oct 2024) EllapsedTime: 124.3 seconds RetCode: 0 Status: OK CheckDir: parglms.Rcheck Warnings: 0