Package: parglms Version: 1.36.0 Command: /Library/Frameworks/R.framework/Resources/bin/R CMD build --keep-empty-dirs --no-resave-data parglms StartedAt: 2024-10-16 21:54:57 -0400 (Wed, 16 Oct 2024) EndedAt: 2024-10-16 21:55:54 -0400 (Wed, 16 Oct 2024) EllapsedTime: 57.0 seconds RetCode: 0 Status: OK PackageFile: parglms_1.36.0.tar.gz PackageFileSize: 273.2 KiB