Package: parglms Version: 1.36.0 Command: rm -rf parglms.buildbin-libdir && mkdir parglms.buildbin-libdir && /Users/biocbuild/BBS/utils/build-universal.sh parglms_1.36.0.tar.gz /Library/Frameworks/R.framework/Resources/bin/R parglms.buildbin-libdir StartedAt: 2024-10-17 16:48:41 -0400 (Thu, 17 Oct 2024) EndedAt: 2024-10-17 16:48:53 -0400 (Thu, 17 Oct 2024) EllapsedTime: 11.8 seconds RetCode: 0 Status: OK PackageFile: parglms_1.36.0.tgz PackageFileSize: 294.5 KiB