Package: parglms Version: 1.36.0 Command: /home/biocbuild/R/R-beta-2024-04-15_r86425/bin/R CMD check --install=check:parglms.install-out.txt --library=/home/biocbuild/R/R-beta-2024-04-15_r86425/site-library --no-vignettes --timings parglms_1.36.0.tar.gz StartedAt: 2024-05-09 10:23:49 -0000 (Thu, 09 May 2024) EndedAt: 2024-05-09 10:24:38 -0000 (Thu, 09 May 2024) EllapsedTime: 49.1 seconds RetCode: 0 Status: OK CheckDir: parglms.Rcheck Warnings: 0