Package: parglms Version: 1.36.0 Command: /home/biocbuild/R/R-beta-2024-04-15_r86425/bin/R CMD build --keep-empty-dirs --no-resave-data parglms StartedAt: 2024-05-09 02:23:40 -0000 (Thu, 09 May 2024) EndedAt: 2024-05-09 02:23:58 -0000 (Thu, 09 May 2024) EllapsedTime: 18.0 seconds RetCode: 0 Status: OK PackageFile: parglms_1.36.0.tar.gz PackageFileSize: 258.5 KiB