Package: parglms Version: 1.36.0 Command: rm -rf parglms.buildbin-libdir && mkdir parglms.buildbin-libdir && /Users/biocbuild/BBS/utils/build-universal.sh parglms_1.36.0.tar.gz /Library/Frameworks/R.framework/Resources/bin/R parglms.buildbin-libdir StartedAt: 2024-10-18 19:53:55 -0400 (Fri, 18 Oct 2024) EndedAt: 2024-10-18 19:54:03 -0400 (Fri, 18 Oct 2024) EllapsedTime: 8.0 seconds RetCode: 0 Status: OK PackageFile: parglms_1.36.0.tgz PackageFileSize: 294.4 KiB