Package: panp Version: 1.74.0 Command: /Library/Frameworks/R.framework/Resources/bin/R CMD build --keep-empty-dirs --no-resave-data panp StartedAt: 2024-06-09 17:38:22 -0400 (Sun, 09 Jun 2024) EndedAt: 2024-06-09 17:39:30 -0400 (Sun, 09 Jun 2024) EllapsedTime: 68.1 seconds RetCode: 0 Status: OK PackageFile: panp_1.74.0.tar.gz PackageFileSize: 670.1 KiB