Package: panelcn.mops Version: 1.26.0 Command: chmod a+r panelcn.mops -R && E:\biocbuild\bbs-3.19-bioc\R\bin\R.exe CMD build --keep-empty-dirs --no-resave-data panelcn.mops StartedAt: 2024-10-16 20:55:50 -0400 (Wed, 16 Oct 2024) EndedAt: 2024-10-16 20:56:48 -0400 (Wed, 16 Oct 2024) EllapsedTime: 58.7 seconds RetCode: 0 Status: OK PackageFile: panelcn.mops_1.26.0.tar.gz PackageFileSize: 569.4 KiB