Package: panelcn.mops Version: 1.26.0 Command: rm -rf panelcn.mops.buildbin-libdir && mkdir panelcn.mops.buildbin-libdir && E:\biocbuild\bbs-3.19-bioc\R\bin\R.exe CMD INSTALL --build --library=panelcn.mops.buildbin-libdir panelcn.mops_1.26.0.tar.gz StartedAt: 2024-10-17 08:19:13 -0400 (Thu, 17 Oct 2024) EndedAt: 2024-10-17 08:19:47 -0400 (Thu, 17 Oct 2024) EllapsedTime: 34.8 seconds RetCode: 0 Status: OK PackageFile: panelcn.mops_1.26.0.zip PackageFileSize: 431 KiB