Package: panelcn.mops Version: 1.26.0 Command: F:\biocbuild\bbs-3.19-bioc\R\bin\R.exe CMD check --no-multiarch --install=check:panelcn.mops.install-out.txt --library=F:\biocbuild\bbs-3.19-bioc\R\library --no-vignettes --timings panelcn.mops_1.26.0.tar.gz StartedAt: 2024-06-27 04:33:22 -0400 (Thu, 27 Jun 2024) EndedAt: 2024-06-27 04:35:49 -0400 (Thu, 27 Jun 2024) EllapsedTime: 146.6 seconds RetCode: 0 Status: OK CheckDir: panelcn.mops.Rcheck Warnings: 0