Package: panelcn.mops Version: 1.26.0 Command: rm -rf panelcn.mops.buildbin-libdir && mkdir panelcn.mops.buildbin-libdir && F:\biocbuild\bbs-3.19-bioc\R\bin\R.exe CMD INSTALL --build --library=panelcn.mops.buildbin-libdir panelcn.mops_1.26.0.tar.gz StartedAt: 2024-06-27 08:38:43 -0400 (Thu, 27 Jun 2024) EndedAt: 2024-06-27 08:39:14 -0400 (Thu, 27 Jun 2024) EllapsedTime: 31.0 seconds RetCode: 0 Status: OK PackageFile: panelcn.mops_1.26.0.zip PackageFileSize: 430.8 KiB