Package: panelcn.mops Version: 1.26.0 Command: /home/biocbuild/bbs-3.19-bioc/R/bin/R CMD build --keep-empty-dirs --no-resave-data panelcn.mops StartedAt: 2024-10-16 20:02:08 -0400 (Wed, 16 Oct 2024) EndedAt: 2024-10-16 20:02:48 -0400 (Wed, 16 Oct 2024) EllapsedTime: 40.1 seconds RetCode: 0 Status: OK PackageFile: panelcn.mops_1.26.0.tar.gz PackageFileSize: 567.1 KiB