Package: panelcn.mops Version: 1.26.0 Command: /Library/Frameworks/R.framework/Resources/bin/R CMD build --keep-empty-dirs --no-resave-data panelcn.mops StartedAt: 2024-10-16 21:53:15 -0400 (Wed, 16 Oct 2024) EndedAt: 2024-10-16 21:54:38 -0400 (Wed, 16 Oct 2024) EllapsedTime: 83.4 seconds RetCode: 0 Status: OK PackageFile: panelcn.mops_1.26.0.tar.gz PackageFileSize: 608.3 KiB