Package: panelcn.mops Version: 1.26.0 Command: /Library/Frameworks/R.framework/Resources/bin/R CMD build --keep-empty-dirs --no-resave-data panelcn.mops StartedAt: 2024-06-09 17:37:52 -0400 (Sun, 09 Jun 2024) EndedAt: 2024-06-09 17:39:36 -0400 (Sun, 09 Jun 2024) EllapsedTime: 104.6 seconds RetCode: 0 Status: OK PackageFile: panelcn.mops_1.26.0.tar.gz PackageFileSize: 608.6 KiB