Package: panelcn.mops Version: 1.26.0 Command: rm -rf panelcn.mops.buildbin-libdir && mkdir panelcn.mops.buildbin-libdir && /Users/biocbuild/BBS/utils/build-universal.sh panelcn.mops_1.26.0.tar.gz /Library/Frameworks/R.framework/Resources/bin/R panelcn.mops.buildbin-libdir StartedAt: 2024-06-10 00:31:22 -0400 (Mon, 10 Jun 2024) EndedAt: 2024-06-10 00:31:42 -0400 (Mon, 10 Jun 2024) EllapsedTime: 20.1 seconds RetCode: 0 Status: OK PackageFile: panelcn.mops_1.26.0.tgz PackageFileSize: 471.8 KiB