Package: panelcn.mops Version: 1.26.0 Command: /home/biocbuild/R/R-beta-2024-04-15_r86425/bin/R CMD build --keep-empty-dirs --no-resave-data panelcn.mops StartedAt: 2024-05-09 02:23:11 -0000 (Thu, 09 May 2024) EndedAt: 2024-05-09 02:23:37 -0000 (Thu, 09 May 2024) EllapsedTime: 26.0 seconds RetCode: 0 Status: OK PackageFile: panelcn.mops_1.26.0.tar.gz PackageFileSize: 601 KiB