Package: panelcn.mops Version: 1.26.0 Command: /Library/Frameworks/R.framework/Resources/bin/R CMD build --keep-empty-dirs --no-resave-data panelcn.mops StartedAt: 2024-10-17 06:09:21 -0400 (Thu, 17 Oct 2024) EndedAt: 2024-10-17 06:10:01 -0400 (Thu, 17 Oct 2024) EllapsedTime: 40.5 seconds RetCode: 0 Status: OK PackageFile: panelcn.mops_1.26.0.tar.gz PackageFileSize: 608.4 KiB