Package: panelcn.mops Version: 1.26.0 Command: rm -rf panelcn.mops.buildbin-libdir && mkdir panelcn.mops.buildbin-libdir && /Users/biocbuild/BBS/utils/build-universal.sh panelcn.mops_1.26.0.tar.gz /Library/Frameworks/R.framework/Resources/bin/R panelcn.mops.buildbin-libdir StartedAt: 2024-10-18 19:53:37 -0400 (Fri, 18 Oct 2024) EndedAt: 2024-10-18 19:53:57 -0400 (Fri, 18 Oct 2024) EllapsedTime: 19.3 seconds RetCode: 0 Status: OK PackageFile: panelcn.mops_1.26.0.tgz PackageFileSize: 471.6 KiB