Package: pandaR Version: 1.36.0 Command: rm -rf pandaR.buildbin-libdir && mkdir pandaR.buildbin-libdir && F:\biocbuild\bbs-3.19-bioc\R\bin\R.exe CMD INSTALL --build --library=pandaR.buildbin-libdir pandaR_1.36.0.tar.gz StartedAt: 2024-06-27 08:38:41 -0400 (Thu, 27 Jun 2024) EndedAt: 2024-06-27 08:38:57 -0400 (Thu, 27 Jun 2024) EllapsedTime: 15.4 seconds RetCode: 0 Status: OK PackageFile: pandaR_1.36.0.zip PackageFileSize: 9.074 MiB