Package: pandaR Version: 1.36.0 Command: rm -rf pandaR.buildbin-libdir && mkdir pandaR.buildbin-libdir && /Users/biocbuild/BBS/utils/build-universal.sh pandaR_1.36.0.tar.gz /Library/Frameworks/R.framework/Resources/bin/R pandaR.buildbin-libdir StartedAt: 2024-10-18 19:53:25 -0400 (Fri, 18 Oct 2024) EndedAt: 2024-10-18 19:53:40 -0400 (Fri, 18 Oct 2024) EllapsedTime: 14.5 seconds RetCode: 0 Status: OK PackageFile: pandaR_1.36.0.tgz PackageFileSize: 9.085 MiB