Package: pairkat Version: 1.10.0 Command: E:\biocbuild\bbs-3.19-bioc\R\bin\R.exe CMD INSTALL pairkat StartedAt: 2024-10-16 16:18:08 -0400 (Wed, 16 Oct 2024) EndedAt: 2024-10-16 16:18:32 -0400 (Wed, 16 Oct 2024) EllapsedTime: 24.3 seconds RetCode: 0 Status: OK