Package: pairkat Version: 1.10.0 Command: E:\biocbuild\bbs-3.19-bioc\R\bin\R.exe CMD check --no-multiarch --install=check:pairkat.install-out.txt --library=E:\biocbuild\bbs-3.19-bioc\R\library --no-vignettes --timings pairkat_1.10.0.tar.gz StartedAt: 2024-10-17 04:16:05 -0400 (Thu, 17 Oct 2024) EndedAt: 2024-10-17 04:24:24 -0400 (Thu, 17 Oct 2024) EllapsedTime: 498.5 seconds RetCode: 0 Status: OK CheckDir: pairkat.Rcheck Warnings: 0