Package: pairkat Version: 1.10.0 Command: rm -rf pairkat.buildbin-libdir && mkdir pairkat.buildbin-libdir && E:\biocbuild\bbs-3.19-bioc\R\bin\R.exe CMD INSTALL --build --library=pairkat.buildbin-libdir pairkat_1.10.0.tar.gz StartedAt: 2024-10-17 08:19:09 -0400 (Thu, 17 Oct 2024) EndedAt: 2024-10-17 08:19:39 -0400 (Thu, 17 Oct 2024) EllapsedTime: 30.1 seconds RetCode: 0 Status: OK PackageFile: pairkat_1.10.0.zip PackageFileSize: 804.4 KiB