Package: pairkat Version: 1.10.0 Command: chmod a+r pairkat -R && F:\biocbuild\bbs-3.19-bioc\R\bin\R.exe CMD build --keep-empty-dirs --no-resave-data pairkat StartedAt: 2024-06-26 20:49:44 -0400 (Wed, 26 Jun 2024) EndedAt: 2024-06-26 20:52:00 -0400 (Wed, 26 Jun 2024) EllapsedTime: 135.7 seconds RetCode: 0 Status: OK PackageFile: pairkat_1.10.0.tar.gz PackageFileSize: 770.4 KiB