Package: pairkat Version: 1.10.0 Command: rm -rf pairkat.buildbin-libdir && mkdir pairkat.buildbin-libdir && F:\biocbuild\bbs-3.19-bioc\R\bin\R.exe CMD INSTALL --build --library=pairkat.buildbin-libdir pairkat_1.10.0.tar.gz StartedAt: 2024-06-27 08:38:39 -0400 (Thu, 27 Jun 2024) EndedAt: 2024-06-27 08:39:30 -0400 (Thu, 27 Jun 2024) EllapsedTime: 50.4 seconds RetCode: 0 Status: OK PackageFile: pairkat_1.10.0.zip PackageFileSize: 804.6 KiB