Package: pairkat Version: 1.10.0 Command: /Library/Frameworks/R.framework/Resources/bin/R CMD build --keep-empty-dirs --no-resave-data pairkat StartedAt: 2024-10-16 21:52:36 -0400 (Wed, 16 Oct 2024) EndedAt: 2024-10-16 21:58:01 -0400 (Wed, 16 Oct 2024) EllapsedTime: 324.8 seconds RetCode: 0 Status: OK PackageFile: pairkat_1.10.0.tar.gz PackageFileSize: 823 KiB