Package: pairkat Version: 1.10.0 Command: /home/biocbuild/R/R-beta-2024-04-15_r86425/bin/R CMD check --install=check:pairkat.install-out.txt --library=/home/biocbuild/R/R-beta-2024-04-15_r86425/site-library --no-vignettes --timings pairkat_1.10.0.tar.gz StartedAt: 2024-05-09 10:21:18 -0000 (Thu, 09 May 2024) EndedAt: 2024-05-09 10:30:03 -0000 (Thu, 09 May 2024) EllapsedTime: 525.0 seconds RetCode: 0 Status: OK CheckDir: pairkat.Rcheck Warnings: 0