Package: pairkat Version: 1.10.0 Command: /home/biocbuild/R/R-beta-2024-04-15_r86425/bin/R CMD build --keep-empty-dirs --no-resave-data pairkat StartedAt: 2024-05-09 02:22:17 -0000 (Thu, 09 May 2024) EndedAt: 2024-05-09 02:24:42 -0000 (Thu, 09 May 2024) EllapsedTime: 145.2 seconds RetCode: 0 Status: OK PackageFile: pairkat_1.10.0.tar.gz PackageFileSize: 845.2 KiB