Package: pairkat Version: 1.10.0 Command: rm -rf pairkat.buildbin-libdir && mkdir pairkat.buildbin-libdir && /Users/biocbuild/BBS/utils/build-universal.sh pairkat_1.10.0.tar.gz /Library/Frameworks/R.framework/Resources/bin/R pairkat.buildbin-libdir StartedAt: 2024-06-11 12:27:35 -0400 (Tue, 11 Jun 2024) EndedAt: 2024-06-11 12:28:20 -0400 (Tue, 11 Jun 2024) EllapsedTime: 45.3 seconds RetCode: 0 Status: OK PackageFile: pairkat_1.10.0.tgz PackageFileSize: 856.9 KiB