Package: pairedGSEA Version: 1.4.0 Command: rm -rf pairedGSEA.buildbin-libdir && mkdir pairedGSEA.buildbin-libdir && E:\biocbuild\bbs-3.19-bioc\R\bin\R.exe CMD INSTALL --build --library=pairedGSEA.buildbin-libdir pairedGSEA_1.4.0.tar.gz StartedAt: 2024-10-17 08:19:04 -0400 (Thu, 17 Oct 2024) EndedAt: 2024-10-17 08:19:53 -0400 (Thu, 17 Oct 2024) EllapsedTime: 48.3 seconds RetCode: 0 Status: OK PackageFile: pairedGSEA_1.4.0.zip PackageFileSize: 570.7 KiB