Package: pairedGSEA Version: 1.4.0 Command: /home/biocbuild/bbs-3.19-bioc/R/bin/R CMD build --keep-empty-dirs --no-resave-data pairedGSEA StartedAt: 2024-10-16 20:01:42 -0400 (Wed, 16 Oct 2024) EndedAt: 2024-10-16 20:04:54 -0400 (Wed, 16 Oct 2024) EllapsedTime: 192.6 seconds RetCode: 0 Status: OK PackageFile: pairedGSEA_1.4.0.tar.gz PackageFileSize: 589.3 KiB