Package: pairedGSEA Version: 1.4.0 Command: /Library/Frameworks/R.framework/Resources/bin/R CMD build --keep-empty-dirs --no-resave-data pairedGSEA StartedAt: 2024-10-16 21:52:27 -0400 (Wed, 16 Oct 2024) EndedAt: 2024-10-16 21:59:01 -0400 (Wed, 16 Oct 2024) EllapsedTime: 394.5 seconds RetCode: 0 Status: OK PackageFile: pairedGSEA_1.4.0.tar.gz PackageFileSize: 604.4 KiB