Package: paircompviz Version: 1.42.0 Command: rm -rf paircompviz.buildbin-libdir && mkdir paircompviz.buildbin-libdir && /Users/biocbuild/BBS/utils/build-universal.sh paircompviz_1.42.0.tar.gz /Library/Frameworks/R.framework/Resources/bin/R paircompviz.buildbin-libdir StartedAt: 2024-10-17 16:48:07 -0400 (Thu, 17 Oct 2024) EndedAt: 2024-10-17 16:48:17 -0400 (Thu, 17 Oct 2024) EllapsedTime: 10.5 seconds RetCode: 0 Status: OK PackageFile: paircompviz_1.42.0.tgz PackageFileSize: 336.6 KiB