Package: pageRank Version: 1.14.0 Command: chmod a+r pageRank -R && E:\biocbuild\bbs-3.19-bioc\R\bin\R.exe CMD build --keep-empty-dirs --no-resave-data pageRank StartedAt: 2024-10-16 20:54:35 -0400 (Wed, 16 Oct 2024) EndedAt: 2024-10-16 20:56:33 -0400 (Wed, 16 Oct 2024) EllapsedTime: 118.8 seconds RetCode: 0 Status: OK PackageFile: pageRank_1.14.0.tar.gz PackageFileSize: 122.9 KiB