Package: pageRank Version: 1.14.0 Command: rm -rf pageRank.buildbin-libdir && mkdir pageRank.buildbin-libdir && /Users/biocbuild/BBS/utils/build-universal.sh pageRank_1.14.0.tar.gz /Library/Frameworks/R.framework/Resources/bin/R pageRank.buildbin-libdir StartedAt: 2024-10-18 19:53:02 -0400 (Fri, 18 Oct 2024) EndedAt: 2024-10-18 19:54:05 -0400 (Fri, 18 Oct 2024) EllapsedTime: 63.0 seconds RetCode: 0 Status: OK PackageFile: pageRank_1.14.0.tgz PackageFileSize: 175.6 KiB