Package: padma Version: 1.14.1 Command: /home/biocbuild/bbs-3.19-bioc/R/bin/R CMD check --install=check:padma.install-out.txt --library=/home/biocbuild/bbs-3.19-bioc/R/site-library --timings padma_1.14.1.tar.gz StartedAt: 2024-10-17 03:27:38 -0400 (Thu, 17 Oct 2024) EndedAt: 2024-10-17 03:36:56 -0400 (Thu, 17 Oct 2024) EllapsedTime: 558.4 seconds RetCode: 0 Status: OK CheckDir: padma.Rcheck Warnings: 0