Package: padma Version: 1.14.1 Command: /Library/Frameworks/R.framework/Resources/bin/R CMD INSTALL padma StartedAt: 2024-10-16 16:32:16 -0400 (Wed, 16 Oct 2024) EndedAt: 2024-10-16 16:33:16 -0400 (Wed, 16 Oct 2024) EllapsedTime: 60.7 seconds RetCode: 0 Status: OK