Package: padma Version: 1.14.1 Command: /Library/Frameworks/R.framework/Resources/bin/R CMD build --keep-empty-dirs --no-resave-data padma StartedAt: 2024-10-16 21:51:22 -0400 (Wed, 16 Oct 2024) EndedAt: 2024-10-16 21:55:09 -0400 (Wed, 16 Oct 2024) EllapsedTime: 227.0 seconds RetCode: 0 Status: OK PackageFile: padma_1.14.1.tar.gz PackageFileSize: 1.156 MiB