Package: packFinder Version: 1.16.0 Command: rm -rf packFinder.buildbin-libdir && mkdir packFinder.buildbin-libdir && E:\biocbuild\bbs-3.19-bioc\R\bin\R.exe CMD INSTALL --build --library=packFinder.buildbin-libdir packFinder_1.16.0.tar.gz StartedAt: 2024-10-17 08:18:54 -0400 (Thu, 17 Oct 2024) EndedAt: 2024-10-17 08:19:07 -0400 (Thu, 17 Oct 2024) EllapsedTime: 13.8 seconds RetCode: 0 Status: OK PackageFile: packFinder_1.16.0.zip PackageFileSize: 1.166 MiB