Package: packFinder Version: 1.16.0 Command: chmod a+r packFinder -R && F:\biocbuild\bbs-3.19-bioc\R\bin\R.exe CMD build --keep-empty-dirs --no-resave-data packFinder StartedAt: 2024-06-26 20:47:30 -0400 (Wed, 26 Jun 2024) EndedAt: 2024-06-26 20:47:54 -0400 (Wed, 26 Jun 2024) EllapsedTime: 24.5 seconds RetCode: 0 Status: OK PackageFile: packFinder_1.16.0.tar.gz PackageFileSize: 1.129 MiB