Package: packFinder Version: 1.16.0 Command: /Library/Frameworks/R.framework/Resources/bin/R CMD check --install=check:packFinder.install-out.txt --library=/Library/Frameworks/R.framework/Resources/library --no-vignettes --timings packFinder_1.16.0.tar.gz StartedAt: 2024-10-18 06:53:19 -0400 (Fri, 18 Oct 2024) EndedAt: 2024-10-18 06:54:15 -0400 (Fri, 18 Oct 2024) EllapsedTime: 56.1 seconds RetCode: 0 Status: OK CheckDir: packFinder.Rcheck Warnings: 0